BEGIN:VCALENDAR
VERSION:2.0
PRODID:-//Jaya Yoga Centre - ECPv5.1.6//NONSGML v1.0//EN
CALSCALE:GREGORIAN
METHOD:PUBLISH
X-WR-CALNAME:Jaya Yoga Centre
X-ORIGINAL-URL:https://jayayoga.ca
X-WR-CALDESC:Events for Jaya Yoga Centre
BEGIN:VTIMEZONE
TZID:America/Toronto
BEGIN:DAYLIGHT
TZOFFSETFROM:-0500
TZOFFSETTO:-0400
TZNAME:EDT
DTSTART:20190310T070000
END:DAYLIGHT
BEGIN:STANDARD
TZOFFSETFROM:-0400
TZOFFSETTO:-0500
TZNAME:EST
DTSTART:20191103T060000
END:STANDARD
END:VTIMEZONE
BEGIN:VEVENT
DTSTART;TZID=America/Toronto:20191207T063000
DTEND;TZID=America/Toronto:20191207T071000
DTSTAMP:20260421T045352
CREATED:20191126T155157Z
LAST-MODIFIED:20191126T155157Z
UID:2855-1575700200-1575702600@jayayoga.ca
SUMMARY:7 Day Meditation Series for the Holidays!
DESCRIPTION:Meditation for Holiday! \nAttend in person at the studio – OR – connect online!\nEvery month\, we offer a 7 day Meditation Series! \nThe Holiday’s are a beautiful time of year\, and yet sometimes we can feel overwelmed by the pressures it can bring. The beauty and message of the season can get lost in the hustle and bustle. Family\, friends and places to be are all wonderful things\, and yet sometimes we are still left feeling empty and craving some quiet alone time to connect with our own inner being.\n*\nTransform your holiday into a more fulfilling and meaningful experience.\n*\nJoin Jacqualine at the Studio or connect online for 7 days of dynamic pranayam (breath work) and Guided Meditations (visual cues to help one relax)\, which will leave you feeling calm\, centered and at peace during the Holiday and as we approach 2020.\n*\nParticipants can choose what time of day to participate through the LIVE LINKS that will be sent out each day.  Or\, you can attend in person at the studio!  Each day\, the meditations will be recorded and the LIVE LINK emailed to those who have signed up.  You can meditate any time of the day or night!\n*\nDecember 7 – 14\n06:30 – 07:10am\nStudio doors open at 06:15am\n*\n7 days…\n40 minutes…\n$50… \nRegister online by clicking HERE\, or log into the “ACHIEVE” app and register under “events\,” call us at 647.352.JAYA (5292) or stop by and come visit us in person! \n**Jacqualine is the founder of Jaya Yoga and Meditation\, and has been leading Meditation classes for 9 years.  She recently led classes and workshops on her trip to Poland and while staying at her teacher’s Ashram in India.  She leads our 30 day Meditation challenge each year\, and has composed 6 Guided Meditation CD’s (ITunes: Jacqualine Haller) which has contributors such as Yogrishi Vishvketu (Visit HERE)\, Krishna Das (Visit HERE) and Deva Premal (Visit HERE).
URL:https://jayayoga.ca/event/7-day-meditation-series-for-the-holidays/
LOCATION:Shop
ATTACH;FMTTYPE=:
END:VEVENT
END:VCALENDAR