BEGIN:VCALENDAR
VERSION:2.0
PRODID:-//Jaya Yoga Centre - ECPv5.1.6//NONSGML v1.0//EN
CALSCALE:GREGORIAN
METHOD:PUBLISH
X-WR-CALNAME:Jaya Yoga Centre
X-ORIGINAL-URL:https://jayayoga.ca
X-WR-CALDESC:Events for Jaya Yoga Centre
BEGIN:VTIMEZONE
TZID:America/Toronto
BEGIN:DAYLIGHT
TZOFFSETFROM:-0500
TZOFFSETTO:-0400
TZNAME:EDT
DTSTART:20200308T070000
END:DAYLIGHT
BEGIN:STANDARD
TZOFFSETFROM:-0400
TZOFFSETTO:-0500
TZNAME:EST
DTSTART:20201101T060000
END:STANDARD
END:VTIMEZONE
BEGIN:VEVENT
DTSTART;TZID=America/Toronto:20200229T190000
DTEND;TZID=America/Toronto:20200229T210000
DTSTAMP:20260420T062106
CREATED:20200203T155033Z
LAST-MODIFIED:20200203T155033Z
UID:2906-1583002800-1583010000@jayayoga.ca
SUMMARY:An Evening of Kirtan!
DESCRIPTION:Join us for an evening of Kirtan! \nSaturday February 29th\n7:00- 9:00pm\n$20 advance/$25 at the door \nWHAT IS KIRTAN? \nKirtan is a call-and-response form of musical mantra meditation.  It has the power to tap into deep states of consciousness and yet it can also invoke exciting feelings of joy and energy! \nWHAT IS BHAKTI-YOGA? \nMoving beyond the physical asanas (postures)\, bhakti-yoga is a holistic lifestyle which inspires the practitioner to apply a loving and devotional meditation to almost all aspects of their lives. \nWHAT TO EXPECT AT AN EVENT? \nAt a typical kirtan event\, a group of chanters lead the crowd in multiple musical mantra sessions.  Things start off quite calm and introspective but then will often culminate with joyous clapping and even dancing! \nThe Kirtan Culture Initiative (KCI) is a newly formed Toronto-based project whose aim is to share the heart-opening practice of kirtan yoga (musical mantra meditation)\nalong with the holistic aspects of bhakti-yoga.\nKirtan has the power to tap into deep states of consciousness and can also invoke exciting feelings of joy and energy. \nDon’t miss out!\nThe evening will be spent exploring sacred sound\nthrough mystical chants and music.\nCome with an open heart and allow yourself to be transported to a time and space where the exploration of the self is done through the energy of mantras and music.\n$20 in advance\n$25 at the door \nBook online by clicking HERE!\nTo learn more about the Kirtan Culture Initiative\, click HERE!
URL:https://jayayoga.ca/event/an-evening-of-kirtan-2/
LOCATION:Shop
ATTACH;FMTTYPE=:
END:VEVENT
END:VCALENDAR