BEGIN:VCALENDAR
VERSION:2.0
PRODID:-//Jaya Yoga Centre - ECPv5.1.6//NONSGML v1.0//EN
CALSCALE:GREGORIAN
METHOD:PUBLISH
X-WR-CALNAME:Jaya Yoga Centre
X-ORIGINAL-URL:https://jayayoga.ca
X-WR-CALDESC:Events for Jaya Yoga Centre
BEGIN:VTIMEZONE
TZID:America/Toronto
BEGIN:DAYLIGHT
TZOFFSETFROM:-0500
TZOFFSETTO:-0400
TZNAME:EDT
DTSTART:20200308T070000
END:DAYLIGHT
BEGIN:STANDARD
TZOFFSETFROM:-0400
TZOFFSETTO:-0500
TZNAME:EST
DTSTART:20201101T060000
END:STANDARD
END:VTIMEZONE
BEGIN:VEVENT
DTSTART;TZID=America/Toronto:20200203T080000
DTEND;TZID=America/Toronto:20200229T170000
DTSTAMP:20260420T110351
CREATED:20200203T152538Z
LAST-MODIFIED:20200203T152538Z
UID:2900-1580716800-1582995600@jayayoga.ca
SUMMARY:Valentine Private Yoga experience!
DESCRIPTION:Are you looking for a unique Valentine’s Day Gift that will create a lasting memory and bonding experience?   \nPossibly an experience that lasts longer then a bouquet of flowers? \nBook a Private Yoga class with your partner\, friend or any loved one! \nPrivate class for 2 people: $135 + HST \nThese 60 minute private classes are taylored to exactly what you are hoping to gain from the experience. \nImagine a romantic restorative yoga class\, or something more invigorating can also be arranged. \nEnjoy one-on-one time with your very own Yoga Instructor and you also get the whole yoga room to yourself! \nYou can book a private class online through our website by clicking HERE\, or through the Wellness Living ACHIEVE app.\nOr\, emails us at info@jayayoga.ca and we will be happy to arrange this for you.
URL:https://jayayoga.ca/event/valentine-private-yoga-experience/
LOCATION:Shop
ATTACH;FMTTYPE=:
END:VEVENT
END:VCALENDAR